BEGIN:VCALENDAR
VERSION:2.0
PRODID:-//Alte Münze Berlin - ECPv6.15.17.1//NONSGML v1.0//EN
CALSCALE:GREGORIAN
METHOD:PUBLISH
X-ORIGINAL-URL:https://www.alte-muenze-berlin.de
X-WR-CALDESC:Veranstaltungen für Alte Münze Berlin
REFRESH-INTERVAL;VALUE=DURATION:PT1H
X-Robots-Tag:noindex
X-PUBLISHED-TTL:PT1H
BEGIN:VTIMEZONE
TZID:Europe/Berlin
BEGIN:DAYLIGHT
TZOFFSETFROM:+0100
TZOFFSETTO:+0200
TZNAME:CEST
DTSTART:20240331T010000
END:DAYLIGHT
BEGIN:STANDARD
TZOFFSETFROM:+0200
TZOFFSETTO:+0100
TZNAME:CET
DTSTART:20241027T010000
END:STANDARD
BEGIN:DAYLIGHT
TZOFFSETFROM:+0100
TZOFFSETTO:+0200
TZNAME:CEST
DTSTART:20250330T010000
END:DAYLIGHT
BEGIN:STANDARD
TZOFFSETFROM:+0200
TZOFFSETTO:+0100
TZNAME:CET
DTSTART:20251026T010000
END:STANDARD
BEGIN:DAYLIGHT
TZOFFSETFROM:+0100
TZOFFSETTO:+0200
TZNAME:CEST
DTSTART:20260329T010000
END:DAYLIGHT
BEGIN:STANDARD
TZOFFSETFROM:+0200
TZOFFSETTO:+0100
TZNAME:CET
DTSTART:20261025T010000
END:STANDARD
END:VTIMEZONE
BEGIN:VEVENT
DTSTART;VALUE=DATE:20251024
DTEND;VALUE=DATE:20251026
DTSTAMP:20260425T145129
CREATED:20251023T162133Z
LAST-MODIFIED:20251023T162133Z
UID:1925-1761264000-1761436799@www.alte-muenze-berlin.de
SUMMARY:Ink Against Borders 2025
DESCRIPTION:Sea-Watch und Ink against Borders laden zum dritten Mal zum INK AGAINST BORDERS Event – die queerfeministische und antifaschistische Soli-Tattoo-Convention für zivile Seenotrettung\, gegen das tödliche europäische Grenzregime. \n24. und 25. Oktober 2025 · 12–19 Uhr · Alte Münze Berlin \nAuch 2025 setzen wieder rund 60 FLINTA* Tattoo-Artists ihre Kunst für Bewegungsfreiheit ein. Zwei Tage lang stechen sie in Berlin exklusive Soli-Motive. Jede Nadel ein Statement gegen das Vergessen\, jede Spende ein Beitrag\, der Leben retten kann. \nTickets gibt es bereits ab 12 € pro Tag oder 20 € fürs ganze Wochenende. Sicher dir dein Ticket hier. \nMit deinem Ticket decken wir die Grundkosten des Events\, von Raummiete bis Technik. So stellen wir sicher\, dass jede Spende aus den Tattoos direkt in die Seenotrettung fließt. Gemeinsam tragen wir die Kosten solidarisch\, damit unsere Schiffe im Mittelmeer handlungsfähig bleiben.
URL:https://www.alte-muenze-berlin.de/event/ink-against-borders/
LOCATION:Alte Münze Kulturquartier\, Am Krögel 2\, Berlin\, Berlin\, 10179\, Deutschland
CATEGORIES:Workshop
ATTACH;FMTTYPE=image/jpeg:https://www.alte-muenze-berlin.de/wp-content/uploads/2025/10/images.jpeg
END:VEVENT
BEGIN:VEVENT
DTSTART;TZID=Europe/Berlin:20251025T160000
DTEND;TZID=Europe/Berlin:20251025T173000
DTSTAMP:20260425T145129
CREATED:20251020T084929Z
LAST-MODIFIED:20251020T084929Z
UID:1894-1761408000-1761413400@www.alte-muenze-berlin.de
SUMMARY:SOLD OUT // Das Land\, das ich liebe – Voices Berlin Festival
DESCRIPTION:Berliner Premiere einer Theaterinstallation nach dem dokumentarischen Buch der Journalistin Jelena Kostjutschenko \n\n\nDas Land\, das ich liebe ist eine Theaterinstallation\, die basiert auf einem dokumentarischen Buch der Journalistin Jelena Kostjutschenko\, das in vielen Ländern zum Bestseller wurde. \nZiel des Projekts ist es nicht nur\, den Zustand des heutigen Russlands bloß zu beschreiben\, sondern vielmehr auf erschütternde und zum Teil beschämende Fragen zu reagieren\, die in letzter Zeit an Bedeutung gewonnen haben: Wie kann man eine Beziehung zu seinem Heimatland aufrechterhalten\, das in das Böse abgleitet? Wie kann man Menschen zumindest ansatzweise verstehen oder akzeptieren\, die gleichzeitig Opfer und Mittäter dieses Bösen sind? Wo verläuft die Grenze zwischen Rechtlosigkeit und Gleichgültigkeit? Der rote Faden\, der das Stück zusammenhält\, ist die persönliche Geschichte der Autorin – ihre Erfahrungen in einer Welt\, die viele lieber nicht sehen möchten. Die Inszenierung untersucht\, wie Realität beschrieben und wahrgenommen wird. Autobiografische Passagen des Buches – dargestellt von einer russischsprachigen Schauspielerin – und dokumentarische Reportagen über rechtlose\, zum Schweigen gebrachte Menschen in Russland – interpretiert von europäischen Schauspieler:innen – verweben sich mit visuellen und klanglichen Elementen zu einer facettenreichen\, vielschichtigen Erzählung. Das Stück ist ein Versuch der Übersetzung – nicht nur von Sprache zu Sprache\, sondern auch von Kultur zu Kultur\, von einem Kontext in den anderen. Ist es überhaupt möglich\, eine komplexe soziale und politische Realität zu erklären? Können wir einander verstehen\, wenn wir die Klischees und vorgefertigten Narrative hinter uns lassen? Wir glauben: ja.\n\n___ \n\nAutorin der literarischen Vorlage: Jelena Kostjutschenko \nRegisseurin: Polina Solotowizki\nDramaturgin: Polina Borodina \nBühnenbildnerin: Vanya Bowden\nDarsteller*innen: Chulpan Khamatova (Videosequenzen)\, Evgenia Borzykh\, Leon Wieferich\, Antonia Leichtle\, Johanna Dähler \nGenerale Produzentin: Svetlana Dolya\nAusführende Produzentin: Kseniia Ignatova\n\nKoproduktion: Kunstfest Weimar 2025\nFörderung: Kibbuz e. V.\, IFC International Culture Foundation\, \nZimin Foundation\, New Generation Europe Foundation \nPart of the Voices Berlin Festival  \n\nTickets: Sold out  (https://voices.berlin/de/event/my-beloved-country)
URL:https://www.alte-muenze-berlin.de/event/sold-out-das-land-das-ich-liebe-voices-berlin-festival/
LOCATION:Alte Münze Kulturquartier\, Am Krögel 2\, Berlin\, Berlin\, 10179\, Deutschland
CATEGORIES:Performance
ATTACH;FMTTYPE=image/jpeg:https://www.alte-muenze-berlin.de/wp-content/uploads/2025/10/B7A3088-1-min-scaled.jpg
END:VEVENT
BEGIN:VEVENT
DTSTART;TZID=Europe/Berlin:20251025T200000
DTEND;TZID=Europe/Berlin:20251025T213000
DTSTAMP:20260425T145129
CREATED:20251020T085324Z
LAST-MODIFIED:20251020T085324Z
UID:1896-1761422400-1761427800@www.alte-muenze-berlin.de
SUMMARY:SOLD OUT // Das Land\, das ich liebe – Voices Berlin Festival
DESCRIPTION:Berliner Premiere einer Theaterinstallation nach dem dokumentarischen Buch der Journalistin Jelena Kostjutschenko \n\n\nDas Land\, das ich liebe ist eine Theaterinstallation\, die basiert auf einem dokumentarischen Buch der Journalistin Jelena Kostjutschenko\, das in vielen Ländern zum Bestseller wurde. \nZiel des Projekts ist es nicht nur\, den Zustand des heutigen Russlands bloß zu beschreiben\, sondern vielmehr auf erschütternde und zum Teil beschämende Fragen zu reagieren\, die in letzter Zeit an Bedeutung gewonnen haben: Wie kann man eine Beziehung zu seinem Heimatland aufrechterhalten\, das in das Böse abgleitet? Wie kann man Menschen zumindest ansatzweise verstehen oder akzeptieren\, die gleichzeitig Opfer und Mittäter dieses Bösen sind? Wo verläuft die Grenze zwischen Rechtlosigkeit und Gleichgültigkeit? Der rote Faden\, der das Stück zusammenhält\, ist die persönliche Geschichte der Autorin – ihre Erfahrungen in einer Welt\, die viele lieber nicht sehen möchten. Die Inszenierung untersucht\, wie Realität beschrieben und wahrgenommen wird. Autobiografische Passagen des Buches – dargestellt von einer russischsprachigen Schauspielerin – und dokumentarische Reportagen über rechtlose\, zum Schweigen gebrachte Menschen in Russland – interpretiert von europäischen Schauspieler:innen – verweben sich mit visuellen und klanglichen Elementen zu einer facettenreichen\, vielschichtigen Erzählung. Das Stück ist ein Versuch der Übersetzung – nicht nur von Sprache zu Sprache\, sondern auch von Kultur zu Kultur\, von einem Kontext in den anderen. Ist es überhaupt möglich\, eine komplexe soziale und politische Realität zu erklären? Können wir einander verstehen\, wenn wir die Klischees und vorgefertigten Narrative hinter uns lassen? Wir glauben: ja.\n\n___ \n\nAutorin der literarischen Vorlage: Jelena Kostjutschenko \nRegisseurin: Polina Solotowizki\nDramaturgin: Polina Borodina \nBühnenbildnerin: Vanya Bowden\nDarsteller*innen: Chulpan Khamatova (Videosequenzen)\, Evgenia Borzykh\, Leon Wieferich\, Antonia Leichtle\, Johanna Dähler \nGenerale Produzentin: Svetlana Dolya\nAusführende Produzentin: Kseniia Ignatova\n\nKoproduktion: Kunstfest Weimar 2025\nFörderung: Kibbuz e. V.\, IFC International Culture Foundation\, \nZimin Foundation\, New Generation Europe Foundation \nPart of the Voices Berlin Festival  \n\nTickets: Sold out  (https://voices.berlin/de/event/my-beloved-country)
URL:https://www.alte-muenze-berlin.de/event/sold-out-das-land-das-ich-liebe-voices-berlin-festival-2/
LOCATION:Alte Münze Kulturquartier\, Am Krögel 2\, Berlin\, Berlin\, 10179\, Deutschland
CATEGORIES:Performance
ATTACH;FMTTYPE=image/jpeg:https://www.alte-muenze-berlin.de/wp-content/uploads/2025/10/B7A3088-1-min-scaled.jpg
END:VEVENT
END:VCALENDAR