BEGIN:VCALENDAR
VERSION:2.0
PRODID:-//Alte Münze Berlin - ECPv6.15.17.1//NONSGML v1.0//EN
CALSCALE:GREGORIAN
METHOD:PUBLISH
X-WR-CALNAME:Alte Münze Berlin
X-ORIGINAL-URL:https://www.alte-muenze-berlin.de
X-WR-CALDESC:Veranstaltungen für Alte Münze Berlin
REFRESH-INTERVAL;VALUE=DURATION:PT1H
X-Robots-Tag:noindex
X-PUBLISHED-TTL:PT1H
BEGIN:VTIMEZONE
TZID:Europe/Berlin
BEGIN:DAYLIGHT
TZOFFSETFROM:+0100
TZOFFSETTO:+0200
TZNAME:CEST
DTSTART:20240331T010000
END:DAYLIGHT
BEGIN:STANDARD
TZOFFSETFROM:+0200
TZOFFSETTO:+0100
TZNAME:CET
DTSTART:20241027T010000
END:STANDARD
BEGIN:DAYLIGHT
TZOFFSETFROM:+0100
TZOFFSETTO:+0200
TZNAME:CEST
DTSTART:20250330T010000
END:DAYLIGHT
BEGIN:STANDARD
TZOFFSETFROM:+0200
TZOFFSETTO:+0100
TZNAME:CET
DTSTART:20251026T010000
END:STANDARD
BEGIN:DAYLIGHT
TZOFFSETFROM:+0100
TZOFFSETTO:+0200
TZNAME:CEST
DTSTART:20260329T010000
END:DAYLIGHT
BEGIN:STANDARD
TZOFFSETFROM:+0200
TZOFFSETTO:+0100
TZNAME:CET
DTSTART:20261025T010000
END:STANDARD
END:VTIMEZONE
BEGIN:VEVENT
DTSTART;VALUE=DATE:20251101
DTEND;VALUE=DATE:20251102
DTSTAMP:20260423T161219
CREATED:20251007T083825Z
LAST-MODIFIED:20251007T084552Z
UID:1868-1761955200-1762041599@www.alte-muenze-berlin.de
SUMMARY:CANCELLED // Historische Führung
DESCRIPTION:Erfahrt mehr über die weitreichende Geschichte der Alten Münze bei der historischen Führung über das Areal. Geführt von der Historikerin Diana Thun könnt ihr mehr über die Entstehung des Gebäudes am Molkenmarkt erfahren\, sowie die Passarelle am Spreeufer. Euch wird von der vielfältigen Nutzung erzählt werden und wie sich die Alte Münze zu dem was sie heute ist gewandelt hat. \nTeilnahme nur mit Anmeldung via kultur@alte-muenze-berlin.de  oder über Rausgegangen.de möglich.
URL:https://www.alte-muenze-berlin.de/event/cancelled-historische-fuehrung/
LOCATION:Alte Münze Kulturquartier\, Am Krögel 2\, Berlin\, Berlin\, 10179\, Deutschland
CATEGORIES:Führung
ATTACH;FMTTYPE=image/png:https://www.alte-muenze-berlin.de/wp-content/uploads/2025/01/241024_Historienrundgang_IG_beige_blau.png
END:VEVENT
BEGIN:VEVENT
DTSTART;TZID=Europe/Berlin:20251101T200000
DTEND;TZID=Europe/Berlin:20251101T213000
DTSTAMP:20260423T161219
CREATED:20251020T085633Z
LAST-MODIFIED:20251020T085633Z
UID:1898-1762027200-1762032600@www.alte-muenze-berlin.de
SUMMARY:LA LETTRE – Voices Berlin Festival
DESCRIPTION:Stand-up melodrama by renowned Swiss theater director Milo Rau. A performance that explores the events that can alter the course of a life — and a manifesto for what popular theater can be today. Festival d’Avignon 2025 premiere.\n\n\nPoking fun at the premise that a young artist is shaped as much by their roles as by their family history\, Milo Rau explores\, in this scenic etude\, the events that imperceptibly alter the course of our lives: generational conflicts\, political history\, love\, and death. Lighthearted and full of humour\, seeking to create theater by creating a community\, LA LETTRE is a manifesto on what popular theater can be today. From the story of Joan of Arc to Chekhov’s The Seagull\, the performance unfolds on multiple levels\, in a constant back-and-forth between art and life. Even the dead return to the stage\, with the help of recorded voices. \n  \nThe result is a stand-up melodrama in the form of a double helix: as the actors — Olga Mouak and Arne De Tremerie — embark on an honest\, absurd\, and shocking journey through their deeply personal histories of theater — from Sophocles to casting couches\, from Chekhov to the #MeToo movement — there emerges a profound exploration of the soul of the performing arts\, and of the art of living itself.\n\n____ \n\nActors: Arne De Tremerie\, Olga Mouak \nWith the voices of Anne Alvaro\, Isabelle Huppert\, Jocelyne Monier\, and Marijke Pinoy \nDirector: Milo Rau \nText: Milo Rau and team \nDramaturgy: Giacomo Bisordi \nAssistant Directors: Giacomo Bisordi\, Edward Fortes \nScenic Design\, Sound\, Lighting\, Costumes\, and Props: \nMilo Rau and Giacomo Bisordi \nAssistant\, Costumes and Props: Julie Louvain \nProduction: Festival d’Avignon \nPart of the Voices Berlin Festival \n\nTickets: https://voices.berlin/en/event/la-lettre \n(DE) https://voices.berlin/de/event/la-lettre
URL:https://www.alte-muenze-berlin.de/event/la-lettre-voices-berlin-festival/
LOCATION:Alte Münze Kulturquartier\, Am Krögel 2\, Berlin\, Berlin\, 10179\, Deutschland
CATEGORIES:Performance
ATTACH;FMTTYPE=image/png:https://www.alte-muenze-berlin.de/wp-content/uploads/2025/10/6.png
END:VEVENT
END:VCALENDAR