BEGIN:VCALENDAR
VERSION:2.0
PRODID:-//Alte Münze Berlin - ECPv6.15.17.1//NONSGML v1.0//EN
CALSCALE:GREGORIAN
METHOD:PUBLISH
X-WR-CALNAME:Alte Münze Berlin
X-ORIGINAL-URL:https://www.alte-muenze-berlin.de
X-WR-CALDESC:Veranstaltungen für Alte Münze Berlin
REFRESH-INTERVAL;VALUE=DURATION:PT1H
X-Robots-Tag:noindex
X-PUBLISHED-TTL:PT1H
BEGIN:VTIMEZONE
TZID:Europe/Berlin
BEGIN:DAYLIGHT
TZOFFSETFROM:+0100
TZOFFSETTO:+0200
TZNAME:CEST
DTSTART:20240331T010000
END:DAYLIGHT
BEGIN:STANDARD
TZOFFSETFROM:+0200
TZOFFSETTO:+0100
TZNAME:CET
DTSTART:20241027T010000
END:STANDARD
BEGIN:DAYLIGHT
TZOFFSETFROM:+0100
TZOFFSETTO:+0200
TZNAME:CEST
DTSTART:20250330T010000
END:DAYLIGHT
BEGIN:STANDARD
TZOFFSETFROM:+0200
TZOFFSETTO:+0100
TZNAME:CET
DTSTART:20251026T010000
END:STANDARD
BEGIN:DAYLIGHT
TZOFFSETFROM:+0100
TZOFFSETTO:+0200
TZNAME:CEST
DTSTART:20260329T010000
END:DAYLIGHT
BEGIN:STANDARD
TZOFFSETFROM:+0200
TZOFFSETTO:+0100
TZNAME:CET
DTSTART:20261025T010000
END:STANDARD
END:VTIMEZONE
BEGIN:VEVENT
DTSTART;TZID=Europe/Berlin:20251107T170000
DTEND;TZID=Europe/Berlin:20251107T190000
DTSTAMP:20260423T162711
CREATED:20251020T090105Z
LAST-MODIFIED:20251020T090105Z
UID:1904-1762534800-1762542000@www.alte-muenze-berlin.de
SUMMARY:FOREVER LOST – Voices Berlin Festival
DESCRIPTION:An interdisciplinary\, two-part project by Yulia Arsen that explores nostalgia\, ghost futures\, and collective memory through the lens of creepy post-Soviet rituals. \n\n\nFirst part is the solo dance performance\, “Do You Really Wanna Live Forever”\, created by choreographer Yulia Arsen in collaboration with experimental musician Wassily Bosch\, where movements echo folk dance\, Soviet athletic propaganda aesthetics\, and postures shaped by cheap drug use. These collide with fragmented sound — distorted pop hits\, ambient noise\, and personal artifacts — creating a purgatorial space where time feels frozen\, as if the artists are trapped inside a memory capsule — or have become that capsule themselves. At the heart of this experience lies an inability to truly express oneself or break free. This work embodies the absurdity of existence\, where repetition\, irony\, and sincerity merge into a melancholic\, yet strangely optimistic\, loop. \nThe second part — “Utrennik” — is a multidisciplinary collective work by nine artists\, where sound takes center stage — merging with video and performance into a form of total installation. It delves into the “utrennik” — a Soviet-era children’s “morning performance”\, a ritual where cheap costumes and scripted magic barely concealed a deeper emptiness. For many who grew up in post-Soviet countries\, the “utrennik” became a symbol of exhausting repetition\, creation without creativity\, happiness without hope. Here\, it reemerges as a metaphor for broken promises and futures that never arrived.\n\n___ \n\nDo You Really Wanna Live Forever \nConcept\, performance: Yulia Arsen\nSound: Wassily Bosch\nOutside eye: Anna Kozonina\nCostumes: Masha Mirzoian \n  \nUtrennik \nConcept\, performance: Yulia Arsen\nSound\, music curation: Wassily Bosch\nSound: Natalya Petrikowa\nSound\, design: Pavel Pakhomov\nPerformer: Asya Ashman\nVideo: bottom escape\nCostumes: Masha Mirzoian\nInstallation\, performance:\nOleg Eliseev and Jenya Kukoverov (EliKuka)\nOutside eye: Anna Kozonina \nProduction: Bedroom community association \nCo-productions: Théâtre de Vanves\, Point Ephémère x cheville\, Voices Berlin\, Site Art Projects\, Franco-German Transfabrik Fund for the Performing Arts.\n\nPart of the Voices Berlin Festival \n\nTickets: https://voices.berlin/en/event/forever-lost\n\n(DE) https://voices.berlin/de/event/forever-lost
URL:https://www.alte-muenze-berlin.de/event/forever-lost-voices-berlin-festival-2/
LOCATION:Alte Münze Kulturquartier\, Am Krögel 2\, Berlin\, Berlin\, 10179\, Deutschland
CATEGORIES:Performance
ATTACH;FMTTYPE=image/png:https://www.alte-muenze-berlin.de/wp-content/uploads/2025/10/9.png
END:VEVENT
BEGIN:VEVENT
DTSTART;TZID=Europe/Berlin:20251107T190000
DTEND;TZID=Europe/Berlin:20251107T210000
DTSTAMP:20260423T162711
CREATED:20251020T090008Z
LAST-MODIFIED:20251020T090008Z
UID:1902-1762542000-1762549200@www.alte-muenze-berlin.de
SUMMARY:FOREVER LOST – Voices Berlin Festival
DESCRIPTION:An interdisciplinary\, two-part project by Yulia Arsen that explores nostalgia\, ghost futures\, and collective memory through the lens of creepy post-Soviet rituals. \n\n\nFirst part is the solo dance performance\, “Do You Really Wanna Live Forever”\, created by choreographer Yulia Arsen in collaboration with experimental musician Wassily Bosch\, where movements echo folk dance\, Soviet athletic propaganda aesthetics\, and postures shaped by cheap drug use. These collide with fragmented sound — distorted pop hits\, ambient noise\, and personal artifacts — creating a purgatorial space where time feels frozen\, as if the artists are trapped inside a memory capsule — or have become that capsule themselves. At the heart of this experience lies an inability to truly express oneself or break free. This work embodies the absurdity of existence\, where repetition\, irony\, and sincerity merge into a melancholic\, yet strangely optimistic\, loop. \nThe second part — “Utrennik” — is a multidisciplinary collective work by nine artists\, where sound takes center stage — merging with video and performance into a form of total installation. It delves into the “utrennik” — a Soviet-era children’s “morning performance”\, a ritual where cheap costumes and scripted magic barely concealed a deeper emptiness. For many who grew up in post-Soviet countries\, the “utrennik” became a symbol of exhausting repetition\, creation without creativity\, happiness without hope. Here\, it reemerges as a metaphor for broken promises and futures that never arrived.\n\n___ \n\nDo You Really Wanna Live Forever \nConcept\, performance: Yulia Arsen\nSound: Wassily Bosch\nOutside eye: Anna Kozonina\nCostumes: Masha Mirzoian \n  \nUtrennik \nConcept\, performance: Yulia Arsen\nSound\, music curation: Wassily Bosch\nSound: Natalya Petrikowa\nSound\, design: Pavel Pakhomov\nPerformer: Asya Ashman\nVideo: bottom escape\nCostumes: Masha Mirzoian\nInstallation\, performance:\nOleg Eliseev and Jenya Kukoverov (EliKuka)\nOutside eye: Anna Kozonina \nProduction: Bedroom community association \nCo-productions: Théâtre de Vanves\, Point Ephémère x cheville\, Voices Berlin\, Site Art Projects\, Franco-German Transfabrik Fund for the Performing Arts.\n\nPart of the Voices Berlin Festival \n\nTickets: https://voices.berlin/en/event/forever-lost\n\n(DE) https://voices.berlin/de/event/forever-lost
URL:https://www.alte-muenze-berlin.de/event/forever-lost-voices-berlin-festival/
LOCATION:Alte Münze Kulturquartier\, Am Krögel 2\, Berlin\, Berlin\, 10179\, Deutschland
CATEGORIES:Performance
ATTACH;FMTTYPE=image/png:https://www.alte-muenze-berlin.de/wp-content/uploads/2025/10/9.png
END:VEVENT
END:VCALENDAR