BEGIN:VCALENDAR
VERSION:2.0
PRODID:-//Alte Münze Berlin - ECPv6.15.17.1//NONSGML v1.0//EN
CALSCALE:GREGORIAN
METHOD:PUBLISH
X-WR-CALNAME:Alte Münze Berlin
X-ORIGINAL-URL:https://www.alte-muenze-berlin.de
X-WR-CALDESC:Veranstaltungen für Alte Münze Berlin
REFRESH-INTERVAL;VALUE=DURATION:PT1H
X-Robots-Tag:noindex
X-PUBLISHED-TTL:PT1H
BEGIN:VTIMEZONE
TZID:Europe/Berlin
BEGIN:DAYLIGHT
TZOFFSETFROM:+0100
TZOFFSETTO:+0200
TZNAME:CEST
DTSTART:20250330T010000
END:DAYLIGHT
BEGIN:STANDARD
TZOFFSETFROM:+0200
TZOFFSETTO:+0100
TZNAME:CET
DTSTART:20251026T010000
END:STANDARD
BEGIN:DAYLIGHT
TZOFFSETFROM:+0100
TZOFFSETTO:+0200
TZNAME:CEST
DTSTART:20260329T010000
END:DAYLIGHT
BEGIN:STANDARD
TZOFFSETFROM:+0200
TZOFFSETTO:+0100
TZNAME:CET
DTSTART:20261025T010000
END:STANDARD
BEGIN:DAYLIGHT
TZOFFSETFROM:+0100
TZOFFSETTO:+0200
TZNAME:CEST
DTSTART:20270328T010000
END:DAYLIGHT
BEGIN:STANDARD
TZOFFSETFROM:+0200
TZOFFSETTO:+0100
TZNAME:CET
DTSTART:20271031T010000
END:STANDARD
END:VTIMEZONE
BEGIN:VEVENT
DTSTART;TZID=Europe/Berlin:20260425T193000
DTEND;TZID=Europe/Berlin:20260426T000000
DTSTAMP:20260421T221801
CREATED:20260415T151450Z
LAST-MODIFIED:20260415T151450Z
UID:2586-1777145400-1777161600@www.alte-muenze-berlin.de
SUMMARY:AVERS Ed. 3
DESCRIPTION:AVERS ed. 3 \n˚‧⁺ ･ ˖ · \nrevers:avers brings together artists working across sound\, visual media\, and performance. Utilizing the historic spaces of Alte Münze\, artistic symbioses emerge\, making audio/visual performances a dialogue between sound\, image\, and space. The event series is divided into two phases: revers:avers – two poles of the same artistic coin\, each with its own distinct form. This edition of AVERS has been curated by Berlin based collective co:evolve. They are an interdisciplinary collective dedicated to collaboration\, growth\, and shared creative evolution.Their goal is to bring together artists across disciplines to explore new forms of connection through sound\, image\, and experience. With a foundation built around openness\, empathy\, and experimentation\, co:evolve provides a space to learn\, create\, and evolve together. \n˚‧⁺ ･ ˖ · \n20:30 | Pablo Ulises Lienhard x Yun Kuo present foghorn \n21:25 | bungalovv  \n22:20 | Veronika Tikhonova  \n22:45 | PΞB x CINEMA AV x Alexandra Maciá with an Installation by Leon Klaßen \n˚‧⁺ ･ ˖ · \nDate: Sat 25 April Time: 19:30 – 00:00 \nLocation: Alte Münze | Molkenmarkt 31\, 10179 Berlin \nAdmission: Donation
URL:https://www.alte-muenze-berlin.de/event/avers-ed-3/
LOCATION:Alte Münze Kulturquartier\, Am Krögel 2\, Berlin\, Berlin\, 10179\, Deutschland
CATEGORIES:Club,Installation,Konzert,Performance,Screening
ATTACH;FMTTYPE=image/png:https://www.alte-muenze-berlin.de/wp-content/uploads/2026/04/AVERS_ed_3_INSTAGRAM_FINAL.png
END:VEVENT
END:VCALENDAR