BEGIN:VCALENDAR
VERSION:2.0
PRODID:-//Alte Münze Berlin - ECPv6.15.17.1//NONSGML v1.0//EN
CALSCALE:GREGORIAN
METHOD:PUBLISH
X-WR-CALNAME:Alte Münze Berlin
X-ORIGINAL-URL:https://www.alte-muenze-berlin.de
X-WR-CALDESC:Veranstaltungen für Alte Münze Berlin
REFRESH-INTERVAL;VALUE=DURATION:PT1H
X-Robots-Tag:noindex
X-PUBLISHED-TTL:PT1H
BEGIN:VTIMEZONE
TZID:Europe/Berlin
BEGIN:DAYLIGHT
TZOFFSETFROM:+0100
TZOFFSETTO:+0200
TZNAME:CEST
DTSTART:20240331T010000
END:DAYLIGHT
BEGIN:STANDARD
TZOFFSETFROM:+0200
TZOFFSETTO:+0100
TZNAME:CET
DTSTART:20241027T010000
END:STANDARD
BEGIN:DAYLIGHT
TZOFFSETFROM:+0100
TZOFFSETTO:+0200
TZNAME:CEST
DTSTART:20250330T010000
END:DAYLIGHT
BEGIN:STANDARD
TZOFFSETFROM:+0200
TZOFFSETTO:+0100
TZNAME:CET
DTSTART:20251026T010000
END:STANDARD
BEGIN:DAYLIGHT
TZOFFSETFROM:+0100
TZOFFSETTO:+0200
TZNAME:CEST
DTSTART:20260329T010000
END:DAYLIGHT
BEGIN:STANDARD
TZOFFSETFROM:+0200
TZOFFSETTO:+0100
TZNAME:CET
DTSTART:20261025T010000
END:STANDARD
BEGIN:DAYLIGHT
TZOFFSETFROM:+0100
TZOFFSETTO:+0200
TZNAME:CEST
DTSTART:20270328T010000
END:DAYLIGHT
BEGIN:STANDARD
TZOFFSETFROM:+0200
TZOFFSETTO:+0100
TZNAME:CET
DTSTART:20271031T010000
END:STANDARD
END:VTIMEZONE
BEGIN:VEVENT
DTSTART;VALUE=DATE:20251231
DTEND;VALUE=DATE:20260103
DTSTAMP:20260423T114300
CREATED:20251209T102307Z
LAST-MODIFIED:20251209T102349Z
UID:2038-1767139200-1767398399@www.alte-muenze-berlin.de
SUMMARY:HEISSS x Home Again // NYE
DESCRIPTION:
URL:https://www.alte-muenze-berlin.de/event/heisss-x-home-again-nye/
LOCATION:Alte Münze Kulturquartier\, Am Krögel 2\, Berlin\, Berlin\, 10179\, Deutschland
CATEGORIES:Club
ATTACH;FMTTYPE=image/jpeg:https://www.alte-muenze-berlin.de/wp-content/uploads/2025/12/heisss-homeagain-4x5-1-scaled.jpg
END:VEVENT
BEGIN:VEVENT
DTSTART;VALUE=DATE:20260103
DTEND;VALUE=DATE:20260104
DTSTAMP:20260423T114300
CREATED:20251007T084534Z
LAST-MODIFIED:20251209T104656Z
UID:1870-1767398400-1767484799@www.alte-muenze-berlin.de
SUMMARY:Historische Führung
DESCRIPTION:Erfahrt mehr über die weitreichende Geschichte der Alten Münze bei der historischen Führung über das Areal. Geführt von der Historikerin Diana Thun könnt ihr mehr über die Entstehung des Gebäudes am Molkenmarkt erfahren\, sowie die Passarelle am Spreeufer. Euch wird von der vielfältigen Nutzung erzählt werden und wie sich die Alte Münze zu dem was sie heute ist gewandelt hat. \nTeilnahme nur mit Anmeldung via kultur@alte-muenze-berlin.de  oder über Rausgegangen.de möglich.
URL:https://www.alte-muenze-berlin.de/event/cancelled-historische-fuehrung-2/
LOCATION:Alte Münze Kulturquartier\, Am Krögel 2\, Berlin\, Berlin\, 10179\, Deutschland
CATEGORIES:Führung
ATTACH;FMTTYPE=image/png:https://www.alte-muenze-berlin.de/wp-content/uploads/2025/01/241024_Historienrundgang_IG_beige_blau.png
END:VEVENT
END:VCALENDAR